BEGIN:VCALENDAR
VERSION:2.0
PRODID:spatie/icalendar-generator
NAME:2018 CPA Summit
X-WR-CALNAME:2018 CPA Summit
BEGIN:VTIMEZONE
TZID:America/New_York
BEGIN:STANDARD
DTSTART:20181104T010000
TZOFFSETFROM:-0400
TZOFFSETTO:-0500
END:STANDARD
BEGIN:DAYLIGHT
DTSTART:20190310T010000
TZOFFSETFROM:-0500
TZOFFSETTO:-0400
END:DAYLIGHT
END:VTIMEZONE
BEGIN:VTIMEZONE
TZID:UTC
BEGIN:STANDARD
DTSTART:20250728T083156
TZOFFSETFROM:+0000
TZOFFSETTO:+0000
END:STANDARD
END:VTIMEZONE
BEGIN:VEVENT
UID:69eb2a7c626b1
DTSTAMP:20260424T083156Z
SUMMARY:2018 CPA Summit
LOCATION:903 Dulaney Valley Rd\, Towson\, Baltimore County\, Maryland 21204
URL:https://macpa.org/catalog/events/86156-2018-cpa-summit-2018-06-12
DTSTART;TZID=America/New_York:20181206T080000
DTEND;TZID=America/New_York:20181206T160000
END:VEVENT
END:VCALENDAR