BEGIN:VCALENDAR
VERSION:2.0
PRODID:spatie/icalendar-generator
NAME:Fall Town Hall 2017: The Future Ready CPA – Anticipating Opportuniti
 es in a Sea of Change
X-WR-CALNAME:Fall Town Hall 2017: The Future Ready CPA – Anticipating Opp
 ortunities in a Sea of Change
BEGIN:VTIMEZONE
TZID:America/New_York
BEGIN:DAYLIGHT
DTSTART:20170312T010000
TZOFFSETFROM:-0500
TZOFFSETTO:-0400
END:DAYLIGHT
BEGIN:STANDARD
DTSTART:20171105T010000
TZOFFSETFROM:-0400
TZOFFSETTO:-0500
END:STANDARD
BEGIN:DAYLIGHT
DTSTART:20180311T010000
TZOFFSETFROM:-0500
TZOFFSETTO:-0400
END:DAYLIGHT
END:VTIMEZONE
BEGIN:VTIMEZONE
TZID:UTC
BEGIN:STANDARD
DTSTART:20250723T121111
TZOFFSETFROM:+0000
TZOFFSETTO:+0000
END:STANDARD
END:VTIMEZONE
BEGIN:VEVENT
UID:69e4c65f6623b
DTSTAMP:20260419T121111Z
SUMMARY:Fall Town Hall 2017: The Future Ready CPA – Anticipating Opportun
 ities in a Sea of Change
LOCATION:5000 Signal Bell Ln\, Clarksville\, Howard County\, Maryland 21029
URL:https://macpa.org/catalog/events/85639-fall-town-hall-2017-the-future-r
 eady-cpa-anticipating-opportunities-in-a-sea-of-change-2017-11-10
DTSTART;TZID=America/New_York:20171011T083000
DTEND;TZID=America/New_York:20171011T120000
END:VEVENT
END:VCALENDAR