BEGIN:VCALENDAR
VERSION:2.0
PRODID:spatie/icalendar-generator
NAME:The Business and Industry Suite
X-WR-CALNAME:The Business and Industry Suite
BEGIN:VTIMEZONE
TZID:America/New_York
BEGIN:STANDARD
DTSTART:20221106T010000
TZOFFSETFROM:-0400
TZOFFSETTO:-0500
END:STANDARD
BEGIN:DAYLIGHT
DTSTART:20230312T010000
TZOFFSETFROM:-0500
TZOFFSETTO:-0400
END:DAYLIGHT
END:VTIMEZONE
BEGIN:VTIMEZONE
TZID:UTC
BEGIN:STANDARD
DTSTART:20250726T051529
TZOFFSETFROM:+0000
TZOFFSETTO:+0000
END:STANDARD
END:VTIMEZONE
BEGIN:VEVENT
UID:69e85971a4020
DTSTAMP:20260422T051529Z
SUMMARY:The Business and Industry Suite
URL:https://macpa.org/catalog/events/85297-the-business-and-industry-suite-
 2023-31-03
DTSTART;TZID=America/New_York:20230331T191600
DTEND;TZID=America/New_York:20230331T191600
END:VEVENT
END:VCALENDAR