BEGIN:VCALENDAR
VERSION:2.0
PRODID:spatie/icalendar-generator
NAME:2017 Government Contractors’ Conference
X-WR-CALNAME:2017 Government Contractors’ Conference
BEGIN:VTIMEZONE
TZID:America/New_York
BEGIN:DAYLIGHT
DTSTART:20170312T010000
TZOFFSETFROM:-0500
TZOFFSETTO:-0400
END:DAYLIGHT
BEGIN:STANDARD
DTSTART:20171105T010000
TZOFFSETFROM:-0400
TZOFFSETTO:-0500
END:STANDARD
BEGIN:DAYLIGHT
DTSTART:20180311T010000
TZOFFSETFROM:-0500
TZOFFSETTO:-0400
END:DAYLIGHT
END:VTIMEZONE
BEGIN:VTIMEZONE
TZID:UTC
BEGIN:STANDARD
DTSTART:20250725T162706
TZOFFSETFROM:+0000
TZOFFSETTO:+0000
END:STANDARD
END:VTIMEZONE
BEGIN:VEVENT
UID:69e7a55a5766e
DTSTAMP:20260421T162706Z
SUMMARY:2017 Government Contractors’ Conference
LOCATION:3501 University Blvd E\, Hyattsville\, Prince Georges County\, Mar
 yland 20783
URL:https://macpa.org/catalog/events/85292-2017-government-contractors-conf
 erence-2017-18-09
DTSTART;TZID=America/New_York:20170918T080000
DTEND;TZID=America/New_York:20170918T163000
END:VEVENT
END:VCALENDAR