BEGIN:VCALENDAR
VERSION:2.0
PRODID:spatie/icalendar-generator
NAME:47th ANNUAL CHESAPEAKE TAX CONFERENCE
X-WR-CALNAME:47th ANNUAL CHESAPEAKE TAX CONFERENCE
BEGIN:VTIMEZONE
TZID:America/New_York
BEGIN:DAYLIGHT
DTSTART:20160313T010000
TZOFFSETFROM:-0500
TZOFFSETTO:-0400
END:DAYLIGHT
BEGIN:STANDARD
DTSTART:20161106T010000
TZOFFSETFROM:-0400
TZOFFSETTO:-0500
END:STANDARD
BEGIN:DAYLIGHT
DTSTART:20170312T010000
TZOFFSETFROM:-0500
TZOFFSETTO:-0400
END:DAYLIGHT
END:VTIMEZONE
BEGIN:VTIMEZONE
TZID:UTC
BEGIN:STANDARD
DTSTART:20250728T085934
TZOFFSETFROM:+0000
TZOFFSETTO:+0000
END:STANDARD
END:VTIMEZONE
BEGIN:VEVENT
UID:69eb30f628844
DTSTAMP:20260424T085934Z
SUMMARY:47th ANNUAL CHESAPEAKE TAX CONFERENCE
LOCATION:6817 Dogwood Rd\, Woodlawn\, Baltimore County\, Maryland 21244
URL:https://macpa.org/catalog/events/85005-47th-annual-chesapeake-tax-confe
 rence-2016-22-09
DTSTART;TZID=America/New_York:20160922T080000
DTEND;TZID=America/New_York:20160923T170000
END:VEVENT
END:VCALENDAR